BEGIN:VCALENDAR
VERSION:2.0
PRODID:-//SportPlan//Event Calendar//EN
CALSCALE:GREGORIAN
BEGIN:VEVENT
UID:090c7ca4-dcb4-49dd-a0e9-26b672beae33@sportplan.local
DTSTAMP:20260420T194459Z
DTSTART;VALUE=DATE:20260606
DTEND;VALUE=DATE:20260607
SUMMARY:MIDGUT 33 KM
DESCRIPTION:Official course page for the 33 km distance.
LOCATION:Gökçeada\, Türkiye
URL:https://sportplan.vercel.app/it/events/midgut-33-km-2026-06-06
END:VEVENT
END:VCALENDAR
