BEGIN:VCALENDAR
VERSION:2.0
PRODID:-//SportPlan//Event Calendar//EN
CALSCALE:GREGORIAN
BEGIN:VEVENT
UID:38d74eaa-a932-4dfb-828a-1fd031cbb2d5@sportplan.local
DTSTAMP:20260420T194543Z
DTSTART;VALUE=DATE:20260426
DTEND;VALUE=DATE:20260427
SUMMARY:MEZQUITE TRAIL
DESCRIPTION:confirmed via Eventbrite direct fetch\; trail running event in Juarez\; organised by Ecoaventuras Trepachanga\; 8am-12:30pm\; eventbrite.com.mx Mexico trail running search page 1
LOCATION:Juarez\, Chihuahua\, Mexico
URL:https://sportplan.vercel.app/it/events/mezquite-trail-2026-04-26
END:VEVENT
END:VCALENDAR
