BEGIN:VCALENDAR
VERSION:2.0
PRODID:-//SportPlan//Event Calendar//EN
CALSCALE:GREGORIAN
BEGIN:VEVENT
UID:ad0c9357-afa4-4243-9559-32b853a403c0@sportplan.local
DTSTAMP:20260420T195023Z
DTSTART;VALUE=DATE:20260830
DTEND;VALUE=DATE:20260831
SUMMARY:Mexico City Marathon 2026
DESCRIPTION:Mexico City Marathon 2026 se celebrará el 30 de agosto de 2026 en Mexico City\, CDMX. Es una buena cita para participantes y acompañantes que buscan un ambiente activo y bien organizado. La distancia anunciada es de 42.2 km.
LOCATION:Mexico City\, CDMX
URL:https://sportplan.vercel.app/it/events/mexico-city-marathon-2026-mexico-city-2026-08-30
END:VEVENT
END:VCALENDAR
