BEGIN:VCALENDAR
VERSION:2.0
PRODID:-//SportPlan//Event Calendar//EN
CALSCALE:GREGORIAN
BEGIN:VEVENT
UID:44900656-1877-4d64-8bbc-b6085e0d973f@sportplan.local
DTSTAMP:20260420T181800Z
DTSTART;VALUE=DATE:20260208
DTEND;VALUE=DATE:20260209
SUMMARY:MetaSprint Aquathlon 2026
DESCRIPTION:MetaSprint Aquathlon 2026 is the opening race of the MetaSprint Series in Singapore. The official event page describes it as a swim-run race at Sentosa with Sprint\, XL\, Discovery\, Youth\, Kids and Fun Kids options\, positioned for first-timers\, families and competitive athletes alike.
LOCATION:Sentosa
URL:https://sportplan.vercel.app/it/events/metasprint-aquathlon-2026-sentosa-2026-02-08
END:VEVENT
END:VCALENDAR
