BEGIN:VCALENDAR
VERSION:2.0
PRODID:-//SportPlan//Event Calendar//EN
CALSCALE:GREGORIAN
BEGIN:VEVENT
UID:fe362704-68c4-4b5e-957d-e66238097d75@sportplan.local
DTSTAMP:20260420T224201Z
DTSTART;VALUE=DATE:20260822
DTEND;VALUE=DATE:20260823
SUMMARY:Merino Muster 42 km
DESCRIPTION:Merino Muster 42 km is an official amateur cross-country ski marathon at Snow Farm\, Cardrona\, New Zealand on 22 August 2026. The official Worldloppet calendar lists the 42 km freestyle Merino Muster on 22 August 2026\, and the official race page describes the public-entry event at Snow Farm with shorter companion distances for regular skiers.
LOCATION:Snow Farm\, Cardrona\, New Zealand
URL:https://sportplan.vercel.app/it/events/merino-muster-42km-2026-08-22
END:VEVENT
END:VCALENDAR
