BEGIN:VCALENDAR
VERSION:2.0
PRODID:-//SportPlan//Event Calendar//EN
CALSCALE:GREGORIAN
BEGIN:VEVENT
UID:377692ad-c1ad-40a5-80a9-0e702df6149a@sportplan.local
DTSTAMP:20260420T223536Z
DTSTART;VALUE=DATE:20261011
DTEND;VALUE=DATE:20261012
SUMMARY:Melbourne Marathon
DESCRIPTION:World's Marathons listing\; major city marathon festival.
LOCATION:Melbourne\, Victoria\, Australia
URL:https://sportplan.vercel.app/it/events/melbourne-marathon-2026-10-11
END:VEVENT
END:VCALENDAR
