BEGIN:VCALENDAR
VERSION:2.0
PRODID:-//SportPlan//Event Calendar//EN
CALSCALE:GREGORIAN
BEGIN:VEVENT
UID:92dc236c-3ca6-4c01-a14d-2a9b38a088fc@sportplan.local
DTSTAMP:20260420T224732Z
DTSTART;VALUE=DATE:20260816
DTEND;VALUE=DATE:20260817
SUMMARY:Meia Maratona do Rio 2026
DESCRIPTION:Meia Maratona do Rio 2026 acontecerá em 16 de agosto de 2026\, em Rio de Janeiro\, Rio de Janeiro. É uma ótima opção para quem procura um desafio bem organizado em BR\, com ambiente motivador ao longo de todo o evento. Com uma distância aproximada de 21.1 km\, oferece uma experiência esportiva interessante tanto para participantes experientes quanto para quem quer assumir uma nova meta.
LOCATION:Rio de Janeiro\, Rio de Janeiro
URL:https://sportplan.vercel.app/it/events/meia-maratona-do-rio-2026-rio-de-janeiro-2026-08-16
END:VEVENT
END:VCALENDAR
