BEGIN:VCALENDAR
VERSION:2.0
PRODID:-//SportPlan//Event Calendar//EN
CALSCALE:GREGORIAN
BEGIN:VEVENT
UID:67258011-5da3-4c70-b63f-e89f131926c4@sportplan.local
DTSTAMP:20260420T211226Z
DTSTART;VALUE=DATE:20260905
DTEND;VALUE=DATE:20260907
SUMMARY:Megamarsch Stuttgart 2026
DESCRIPTION:Megamarsch Stuttgart 2026 is an official amateur walking-hiking event in Stuttgart\, Germany on 5-6 September 2026. The official organizer page presents public 50 km and 100 km participation formats\, gives a fixed start and finish at Kastellplatz Römerkastell in Stuttgart\, and describes a hilly route through forests\, vineyards\, and the Stuttgart region.
LOCATION:Kastellplatz Römerkastell\, Stuttgart\, Germany
URL:https://sportplan.vercel.app/it/events/megamarsch-stuttgart-2026-2026-09-05
END:VEVENT
END:VCALENDAR
