BEGIN:VCALENDAR
VERSION:2.0
PRODID:-//SportPlan//Event Calendar//EN
CALSCALE:GREGORIAN
BEGIN:VEVENT
UID:1f130097-b35b-409a-8943-58baa895d8c1@sportplan.local
DTSTAMP:20260420T194739Z
DTSTART;VALUE=DATE:20260502
DTEND;VALUE=DATE:20260503
SUMMARY:Megamarsch Hannover 2026
DESCRIPTION:Megamarsch Hannover 2026 is an official amateur long-distance walking event on the Megamarsch organizer site. The official event page lists the 2 May 2026 edition with a public 50 km route through Hannover and surrounding green areas\, starting and finishing at the Messeparkplatz in Laatzen.
LOCATION:Messeparkplatz\, Kronsbergstraße 80\, 30880 Laatzen\, Lower Saxony\, Germany
URL:https://sportplan.vercel.app/it/events/megamarsch-hannover-2026-2026-05-02
END:VEVENT
END:VCALENDAR
