BEGIN:VCALENDAR
VERSION:2.0
PRODID:-//SportPlan//Event Calendar//EN
CALSCALE:GREGORIAN
BEGIN:VEVENT
UID:e33c881f-6c03-4c86-9fc1-a858deb441c7@sportplan.local
DTSTAMP:20260420T195605Z
DTSTART;VALUE=DATE:20260829
DTEND;VALUE=DATE:20260831
SUMMARY:Megamarsch Berlin bei Nacht 2026
DESCRIPTION:Megamarsch Berlin bei Nacht 2026 is an official amateur overnight walking challenge in Berlin\, Germany from 29 to 30 August 2026. The official Megamarsch Berlin page presents a 50 km public night walk through streets\, parks\, and waterside sections of the capital\, with open Eventbrite registration\, four aid stations\, and start and finish at Sport Centrum Siemensstadt.
LOCATION:Sport Centrum Siemensstadt\, Berlin
URL:https://sportplan.vercel.app/it/events/megamarsch-berlin-bei-nacht-2026-2026-08-29
END:VEVENT
END:VCALENDAR
