BEGIN:VCALENDAR
VERSION:2.0
PRODID:-//SportPlan//Event Calendar//EN
CALSCALE:GREGORIAN
BEGIN:VEVENT
UID:fce0d563-fb76-412e-8b04-f736e72aef58@sportplan.local
DTSTAMP:20260420T211336Z
DTSTART;VALUE=DATE:20260726
DTEND;VALUE=DATE:20260727
SUMMARY:Media Maraton de Bogota
DESCRIPTION:Media Maraton de Bogota se celebrará el 26 de julio de 2026 en Bogotá\, Colombia. Es una buena opción para quienes buscan un reto bien organizado y una jornada deportiva en un entorno especial. Consulta los detalles del recorrido y prepara tu participación con tiempo para aprovechar mejor la experiencia.
LOCATION:Bogotá\, Colombia
URL:https://sportplan.vercel.app/it/events/media-maraton-de-bogota-2026-07-26
END:VEVENT
END:VCALENDAR
