BEGIN:VCALENDAR
VERSION:2.0
PRODID:-//SportPlan//Event Calendar//EN
CALSCALE:GREGORIAN
BEGIN:VEVENT
UID:d8685608-8ae0-4ed1-9dac-eade4a277d86@sportplan.local
DTSTAMP:20260420T201801Z
DTSTART;VALUE=DATE:20261018
DTEND;VALUE=DATE:20261019
SUMMARY:Media Maratón Pontevedra 2026
DESCRIPTION:Media Maratón Pontevedra 2026 se celebra el 18 de octubre de 2026 en Pontevedra\, Pontevedra. Es una cita ideal para quienes buscan un recorrido bien señalizado y un gran ambiente de carrera\, con un recorrido de 21.1 km. Perfecta tanto para competir a buen ritmo como para disfrutar de la experiencia y del entorno del evento.
LOCATION:Pontevedra\, Pontevedra
URL:https://sportplan.vercel.app/it/events/media-marat-n-pontevedra-2026-pontevedra-2026-10-18
END:VEVENT
END:VCALENDAR
