BEGIN:VCALENDAR
VERSION:2.0
PRODID:-//SportPlan//Event Calendar//EN
CALSCALE:GREGORIAN
BEGIN:VEVENT
UID:83d15a02-267b-4ec6-b0eb-4f90c2f6f210@sportplan.local
DTSTAMP:20260420T195515Z
DTSTART;VALUE=DATE:20261115
DTEND;VALUE=DATE:20261116
SUMMARY:Media Maratón de Cáceres
DESCRIPTION:Media Maratón de Cáceres se celebrará el 15 noviembre 2026 en Cáceres\, ofreciendo una cita ideal para quienes quieren vivir el ambiente del evento desde cerca. Con una distancia aproximada de 21\,1 km\, es una opción atractiva tanto para participantes habituales como para quienes quieren sumar un nuevo reto en el calendario.
LOCATION:Cáceres
URL:https://sportplan.vercel.app/it/events/media-marat-n-de-c-ceres-c-ceres-2026-11-15
END:VEVENT
END:VCALENDAR
