BEGIN:VCALENDAR
VERSION:2.0
PRODID:-//SportPlan//Event Calendar//EN
CALSCALE:GREGORIAN
BEGIN:VEVENT
UID:07d4a0ac-3324-45ad-8b0f-482401724fef@sportplan.local
DTSTAMP:20260421T012142Z
DTSTART;VALUE=DATE:20260523
DTEND;VALUE=DATE:20260524
SUMMARY:Mcleans Forest Trail
DESCRIPTION:
LOCATION:McLeans Island
URL:https://sportplan.vercel.app/it/events/mcleans-forest-trail-mcleans-island-2026-05-23
END:VEVENT
END:VCALENDAR
