BEGIN:VCALENDAR
VERSION:2.0
PRODID:-//SportPlan//Event Calendar//EN
CALSCALE:GREGORIAN
BEGIN:VEVENT
UID:62661a02-669e-4571-89cd-877ee20cc40d@sportplan.local
DTSTAMP:20260420T194839Z
DTSTART;VALUE=DATE:20260523
DTEND;VALUE=DATE:20260525
SUMMARY:Mazā balva 2026
DESCRIPTION:Mazā balva 2026 is an official amateur participation orienteering weekend at Cērtenes pilskalns\, Smiltene\, Latvia on 23 and 24 May 2026. The official Latvian Orienteering Federation registration page lists two public stages\, a middle distance on 23 May and a long distance on 24 May\, with OPEN1 and OPEN2 classes alongside the age-group races.
LOCATION:Cērtenes pilskalns\, Smiltene\, Latvia
URL:https://sportplan.vercel.app/it/events/maza-balva-2026-smiltene-2026-05-23
END:VEVENT
END:VCALENDAR
