BEGIN:VCALENDAR
VERSION:2.0
PRODID:-//SportPlan//Event Calendar//EN
CALSCALE:GREGORIAN
BEGIN:VEVENT
UID:fb833428-17cf-4a00-8796-e61784e569c3@sportplan.local
DTSTAMP:20260420T170215Z
DTSTART;VALUE=DATE:20260423
DTEND;VALUE=DATE:20260428
SUMMARY:MAYBELLINE HYROX Paris Grand Palais 2026
DESCRIPTION:MAYBELLINE HYROX Paris Grand Palais 2026 is a five-day official HYROX race weekend in Paris\, France. The official event page lists 23-27 April 2026 at the Grand Palais and explicitly presents the event as open to first-timers and returning athletes across Singles Open\, Pro\, Doubles\, and Relay formats.
LOCATION:Grand Palais
URL:https://sportplan.vercel.app/it/events/maybelline-hyrox-paris-grand-palais-2026-2026-04-23
END:VEVENT
END:VCALENDAR
