BEGIN:VCALENDAR
VERSION:2.0
PRODID:-//SportPlan//Event Calendar//EN
CALSCALE:GREGORIAN
BEGIN:VEVENT
UID:8f6ccf35-0ce9-4cf3-9856-5f6cfac08b4e@sportplan.local
DTSTAMP:20260420T234154Z
DTSTART;VALUE=DATE:20260821
DTEND;VALUE=DATE:20260822
SUMMARY:Maybank Marathon 2026
DESCRIPTION:Official Indonesian event landing page.
LOCATION:Gianyar\, Bali\, Indonesia
URL:https://sportplan.vercel.app/it/events/maybank-marathon-2026-2026-08-21
END:VEVENT
END:VCALENDAR
