BEGIN:VCALENDAR
VERSION:2.0
PRODID:-//SportPlan//Event Calendar//EN
CALSCALE:GREGORIAN
BEGIN:VEVENT
UID:ea4e9c35-7df3-4c81-9f26-78624069144c@sportplan.local
DTSTAMP:20260420T194803Z
DTSTART;VALUE=DATE:20261215
DTEND;VALUE=DATE:20261216
SUMMARY:Maya Marathon. Run in the jungle
DESCRIPTION:Maya Marathon. Run in the jungle se celebrará el 15 de diciembre de 2026 en Cozumel\, Mexico. Es una buena cita para quienes quieren vivir el ambiente del evento en directo y planificar la jornada con antelación. Conviene revisar accesos\, horarios y servicios del recinto antes de salir.
LOCATION:Cozumel\, Mexico
URL:https://sportplan.vercel.app/it/events/maya-marathon-run-in-the-jungle-2026-12-15
END:VEVENT
END:VCALENDAR
