BEGIN:VCALENDAR
VERSION:2.0
PRODID:-//SportPlan//Event Calendar//EN
CALSCALE:GREGORIAN
BEGIN:VEVENT
UID:d4f0083c-a422-4e4c-82f8-c1753468ca07@sportplan.local
DTSTAMP:20260420T204604Z
DTSTART;VALUE=DATE:20260922
DTEND;VALUE=DATE:20260923
SUMMARY:Marcha No Competitiva
DESCRIPTION:Marcha No Competitiva se celebrará el 22 septiembre 2026 en Vilafranca\, Castellón\, Comunidad Valenciana\, ofreciendo una cita ideal para quienes buscan un reto bien organizado y un gran ambiente deportivo. Con un recorrido de 12.6 km\, es una buena oportunidad para marcar objetivos\, disfrutar del entorno y vivir la energía del evento de principio a fin.
LOCATION:Vilafranca\, Castellón\, Comunidad Valenciana
URL:https://sportplan.vercel.app/it/events/marcha-no-competitiva-vilafranca-2026-09-22-12-6k
END:VEVENT
END:VCALENDAR
