BEGIN:VCALENDAR
VERSION:2.0
PRODID:-//SportPlan//Event Calendar//EN
CALSCALE:GREGORIAN
BEGIN:VEVENT
UID:61ba0cf4-56ef-4902-8e77-0f9254b58fbc@sportplan.local
DTSTAMP:20260420T200011Z
DTSTART;VALUE=DATE:20261102
DTEND;VALUE=DATE:20261103
SUMMARY:Marcha Larga
DESCRIPTION:Marcha Larga se celebrará el 2026-11-02 en Balmaseda\, Bizkaia\, Euskadi. El recorrido cubre aproximadamente 21 km\, ofreciendo una cita atractiva tanto para participantes que buscan un nuevo reto como para quienes quieren disfrutar del ambiente del evento. Ideal para sumar una nueva experiencia al calendario y disfrutar de una jornada activa en un entorno especial.
LOCATION:Balmaseda\, Bizkaia\, Euskadi
URL:https://sportplan.vercel.app/it/events/marcha-larga-balmaseda-2026-11-02-21k
END:VEVENT
END:VCALENDAR
