BEGIN:VCALENDAR
VERSION:2.0
PRODID:-//SportPlan//Event Calendar//EN
CALSCALE:GREGORIAN
BEGIN:VEVENT
UID:8e2d7db1-9af6-4a5b-b261-579b751ffd3d@sportplan.local
DTSTAMP:20260420T211611Z
DTSTART;VALUE=DATE:20261012
DTEND;VALUE=DATE:20261013
SUMMARY:Marcha de Montaña Demandasaurus
DESCRIPTION:Marcha de Montaña Demandasaurus se celebra el 12 de octubre de 2026 en Salas de los Infantes\, Burgos\, Castilla y León. Es una cita ideal para quienes buscan un recorrido bien señalizado y un gran ambiente de carrera\, con un recorrido de 22 km. Perfecta tanto para competir a buen ritmo como para disfrutar de la experiencia y del entorno del evento.
LOCATION:Salas de los Infantes\, Burgos\, Castilla y León
URL:https://sportplan.vercel.app/it/events/marcha-de-montana-demandasaurus-salas-de-los-infantes-2026-10-12-22k
END:VEVENT
END:VCALENDAR
