BEGIN:VCALENDAR
VERSION:2.0
PRODID:-//SportPlan//Event Calendar//EN
CALSCALE:GREGORIAN
BEGIN:VEVENT
UID:99c6307b-e164-421a-bd7b-8d7075224103@sportplan.local
DTSTAMP:20260420T194738Z
DTSTART;VALUE=DATE:20260603
DTEND;VALUE=DATE:20260604
SUMMARY:Maratona do Rio 2026 – FAQ
DESCRIPTION:Official Maratona do Rio FAQ page\; confirms distances 21K\, 42K\, Desafio\; lottery-based registration\; confirmed sub-page accessible 200 OK\; Brazil road-running rotation
LOCATION:Rio de Janeiro\, Brazil
URL:https://sportplan.vercel.app/it/events/maratona-do-rio-2026-faq-2026-06-03
END:VEVENT
END:VCALENDAR
