BEGIN:VCALENDAR
VERSION:2.0
PRODID:-//SportPlan//Event Calendar//EN
CALSCALE:GREGORIAN
BEGIN:VEVENT
UID:97c71675-5777-44e8-b31b-ca7a62eb1764@sportplan.local
DTSTAMP:20260420T194924Z
DTSTART;VALUE=DATE:20261201
DTEND;VALUE=DATE:20261202
SUMMARY:Maratón Maya. Cozumel
DESCRIPTION:Maratón Maya. Cozumel se celebrará el 1 de diciembre de 2026 en Cozumel. Es una buena cita para quienes quieren vivir el ambiente del evento en directo y planificar la jornada con antelación. La sede prevista está a unos 42 km\, así que conviene revisar accesos\, horarios y servicios antes de salir.
LOCATION:Cozumel
URL:https://sportplan.vercel.app/it/events/maraton-maya-cozumel-cozumel-2026-12-01-42k
END:VEVENT
END:VCALENDAR
