BEGIN:VCALENDAR
VERSION:2.0
PRODID:-//SportPlan//Event Calendar//EN
CALSCALE:GREGORIAN
BEGIN:VEVENT
UID:54d44814-ce70-4854-bcf4-6a0bdefe02d5@sportplan.local
DTSTAMP:20260420T194804Z
DTSTART;VALUE=DATE:20260531
DTEND;VALUE=DATE:20260601
SUMMARY:Marathon van Amersfoort
DESCRIPTION:Marathon van Amersfoort vindt plaats op 31 mei 2026 in Amersfoort. Het is een mooie keuze voor deelnemers die willen genieten van een goed georganiseerd evenement op deze bestemming. Reken op een motiverende sfeer en een geslaagde dag voor zowel ervaren deelnemers als nieuwkomers.
LOCATION:Amersfoort
URL:https://sportplan.vercel.app/it/events/marathon-van-amersfoort-amersfoort-2026-05-31
END:VEVENT
END:VCALENDAR
