BEGIN:VCALENDAR
VERSION:2.0
PRODID:-//SportPlan//Event Calendar//EN
CALSCALE:GREGORIAN
BEGIN:VEVENT
UID:e8cfe396-ca79-4028-89d3-96fe2af77828@sportplan.local
DTSTAMP:20260420T181759Z
DTSTART;VALUE=DATE:20260426
DTEND;VALUE=DATE:20260427
SUMMARY:Marathon International de Charleroi
DESCRIPTION:Marathon International de Charleroi aura lieu le 26 avril 2026 à Charleroi. C'est un rendez-vous idéal pour les coureurs à la recherche d'une course bien organisée et d'une belle ambiance le jour de l'épreuve.
LOCATION:Charleroi
URL:https://sportplan.vercel.app/it/events/marathon-international-de-charleroi-charleroi-2026-04-26
END:VEVENT
END:VCALENDAR
