BEGIN:VCALENDAR
VERSION:2.0
PRODID:-//SportPlan//Event Calendar//EN
CALSCALE:GREGORIAN
BEGIN:VEVENT
UID:7721e3e2-d44b-499d-b8e4-a380d237f3c5@sportplan.local
DTSTAMP:20260420T224910Z
DTSTART;VALUE=DATE:20261025
DTEND;VALUE=DATE:20261026
SUMMARY:Marathon International de Casablanca 2026
DESCRIPTION:
LOCATION:Casablanca\, Casablanca-Settat
URL:https://sportplan.vercel.app/it/events/marathon-international-de-casablanca-2026-casablanca-2026-10-25
END:VEVENT
END:VCALENDAR
