BEGIN:VCALENDAR
VERSION:2.0
PRODID:-//SportPlan//Event Calendar//EN
CALSCALE:GREGORIAN
BEGIN:VEVENT
UID:15727f7a-b3df-40d0-8b38-9357457548dd@sportplan.local
DTSTAMP:20260420T194917Z
DTSTART;VALUE=DATE:20260517
DTEND;VALUE=DATE:20260518
SUMMARY:Marathon De Longueuil Sun Life
DESCRIPTION:
LOCATION:Longueuil
URL:https://sportplan.vercel.app/it/events/marathon-de-longueuil-sun-life-longueuil-2026-05-17
END:VEVENT
END:VCALENDAR
