BEGIN:VCALENDAR
VERSION:2.0
PRODID:-//SportPlan//Event Calendar//EN
CALSCALE:GREGORIAN
BEGIN:VEVENT
UID:4fd27fa1-9b25-4e7c-ae8d-079eb36620f4@sportplan.local
DTSTAMP:20260420T194800Z
DTSTART;VALUE=DATE:20260913
DTEND;VALUE=DATE:20260914
SUMMARY:Maratón de Valparaíso 2026
DESCRIPTION:Maratón de Valparaíso 2026 se celebra el 13 de septiembre de 2026 en Valparaíso\, Valparaíso\, ofreciendo una experiencia deportiva exigente y bien organizada para participantes de distintos niveles. El recorrido de 42 km combina reto físico\, ambiente de evento y una buena oportunidad para disfrutar del entorno local. Es una cita ideal tanto para quienes buscan competir como para quienes quieren sumar una nueva meta al calendario.
LOCATION:Valparaíso\, Valparaíso
URL:https://sportplan.vercel.app/it/events/marat-n-de-valpara-so-2026-valpara-so-2026-09-13
END:VEVENT
END:VCALENDAR
