BEGIN:VCALENDAR
VERSION:2.0
PRODID:-//SportPlan//Event Calendar//EN
CALSCALE:GREGORIAN
BEGIN:VEVENT
UID:006bd9ca-0788-42ce-acf5-0c0b9d729c9f@sportplan.local
DTSTAMP:20260420T195811Z
DTSTART;VALUE=DATE:20260531
DTEND;VALUE=DATE:20260601
SUMMARY:Maratón de Santiago de Compostela 2026
DESCRIPTION:Maratón de Santiago de Compostela 2026 es una prueba que se celebrará el 2026-05-31 en Santiago de Compostela. Es una buena opción para quienes buscan una jornada activa y bien organizada\, con un recorrido de 42.2 km. Ideal tanto para participantes habituales como para quienes quieren sumar una nueva experiencia al calendario.
LOCATION:Santiago de Compostela
URL:https://sportplan.vercel.app/it/events/marat-n-de-santiago-de-compostela-2026-santiago-de-compostela-2026-05-31
END:VEVENT
END:VCALENDAR
