BEGIN:VCALENDAR
VERSION:2.0
PRODID:-//SportPlan//Event Calendar//EN
CALSCALE:GREGORIAN
BEGIN:VEVENT
UID:fdb986ac-d4bb-471b-8a18-88457b0d827e@sportplan.local
DTSTAMP:20260420T195959Z
DTSTART;VALUE=DATE:20260919
DTEND;VALUE=DATE:20260920
SUMMARY:Mañaritik Atxetara 2026
DESCRIPTION:
LOCATION:Mañaria
URL:https://sportplan.vercel.app/it/events/manaritik-atxetara-2026
END:VEVENT
END:VCALENDAR
