BEGIN:VCALENDAR
VERSION:2.0
PRODID:-//SportPlan//Event Calendar//EN
CALSCALE:GREGORIAN
BEGIN:VEVENT
UID:0157fb96-8bec-4ec3-bfbc-aa2e36933c2c@sportplan.local
DTSTAMP:20260420T194516Z
DTSTART;VALUE=DATE:20261128
DTEND;VALUE=DATE:20261129
SUMMARY:Malnad Ultra
DESCRIPTION:discovered via web_fetch on official event site for India priority coverage
LOCATION:Malnad\, Karnataka\, India
URL:https://sportplan.vercel.app/it/events/malnad-ultra-2026-11-28
END:VEVENT
END:VCALENDAR
