BEGIN:VCALENDAR
VERSION:2.0
PRODID:-//SportPlan//Event Calendar//EN
CALSCALE:GREGORIAN
BEGIN:VEVENT
UID:1d2be94a-aa1f-4d34-8fe8-f6afdbbd0a88@sportplan.local
DTSTAMP:20260420T194838Z
DTSTART;VALUE=DATE:20260502
DTEND;VALUE=DATE:20260505
SUMMARY:Magnetic Triple Marathon Event
DESCRIPTION:
LOCATION:North Ward
URL:https://sportplan.vercel.app/it/events/magnetic-triple-marathon-event-north-ward-2026-05-02
END:VEVENT
END:VCALENDAR
