BEGIN:VCALENDAR
VERSION:2.0
PRODID:-//SportPlan//Event Calendar//EN
CALSCALE:GREGORIAN
BEGIN:VEVENT
UID:da8819ee-71d2-416c-b1bd-b72f01f97780@sportplan.local
DTSTAMP:20260420T211338Z
DTSTART;VALUE=DATE:20260906
DTEND;VALUE=DATE:20260907
SUMMARY:Madeira Swimrun
DESCRIPTION:Madeira Swimrun acontece em Santana no dia 6 de setembro de 2026\, reunindo os participantes para um dia esportivo com ótimo ambiente. A prova promete uma experiência bem organizada\, atletas motivados e uma excelente atmosfera local.
LOCATION:Santana
URL:https://sportplan.vercel.app/it/events/madeira-swimrun-santana-2026-09-06
END:VEVENT
END:VCALENDAR
