BEGIN:VCALENDAR
VERSION:2.0
PRODID:-//SportPlan//Event Calendar//EN
CALSCALE:GREGORIAN
BEGIN:VEVENT
UID:5b6f5a42-fa8f-4df7-85e9-02d9659a2c08@sportplan.local
DTSTAMP:20260420T235033Z
DTSTART;VALUE=DATE:20270227
DTEND;VALUE=DATE:20270228
SUMMARY:Lozärner Cross
DESCRIPTION:Official event site validated via web_fetch.
LOCATION:Lucerne\, Switzerland
URL:https://sportplan.vercel.app/it/events/lozarner-cross-2027-02-27
END:VEVENT
END:VCALENDAR
