BEGIN:VCALENDAR
VERSION:2.0
PRODID:-//SportPlan//Event Calendar//EN
CALSCALE:GREGORIAN
BEGIN:VEVENT
UID:1ebc4e7e-681e-4e59-b34e-3ece773673ac@sportplan.local
DTSTAMP:20260421T012152Z
DTSTART;VALUE=DATE:20260502
DTEND;VALUE=DATE:20260503
SUMMARY:Lion Foundation Rotorua Marathon
DESCRIPTION:discovered via Brave web_search on direct World's Marathons New Zealand running event pages\; NZ had only 2 queue entries before this run and was selected to expand standalone New Zealand coverage
LOCATION:New Zealand
URL:https://sportplan.vercel.app/it/events/lion-foundation-rotorua-marathon-2026-05-02
END:VEVENT
END:VCALENDAR
