BEGIN:VCALENDAR
VERSION:2.0
PRODID:-//SportPlan//Event Calendar//EN
CALSCALE:GREGORIAN
BEGIN:VEVENT
UID:a8237b56-fd91-4cc8-adb9-f0c331560710@sportplan.local
DTSTAMP:20260420T211251Z
DTSTART;VALUE=DATE:20260816
DTEND;VALUE=DATE:20260817
SUMMARY:Limbažu triatlons\, LK posms
DESCRIPTION:Limbažu triatlons\, LK posms is listed on the official Latvian Triathlon Federation calendar for 2026-08-16 in Limbaži. The federation tournament detail page confirms the event date\, host venue\, and amateur participation format.
LOCATION:Limbaži\, Latvia
URL:https://sportplan.vercel.app/it/events/limbazu-triatlons-lk-posms-2026-08-16
END:VEVENT
END:VCALENDAR
