BEGIN:VCALENDAR
VERSION:2.0
PRODID:-//SportPlan//Event Calendar//EN
CALSCALE:GREGORIAN
BEGIN:VEVENT
UID:8e0761e7-9108-44c4-baab-7b40728b4a25@sportplan.local
DTSTAMP:20260420T181914Z
DTSTART;VALUE=DATE:20260418
DTEND;VALUE=DATE:20260419
SUMMARY:Lietuvos pavasario akvatlono čempionatas 2026
DESCRIPTION:Lietuvos pavasario akvatlono čempionatas 2026 is listed in the official 2026 Lithuanian Triathlon Federation calendar for 18 April 2026 in Molėtai\, Lithuania. The federation calendar presents it as the open Lithuanian aquathlon championship with 400 m swim / 3 km run and shorter youth formats. Source: Official 2026 Lithuanian Triathlon Federation calendar.
LOCATION:Molėtai
URL:https://sportplan.vercel.app/it/events/lietuvos-pavasario-akvatlono-cempionatas-2026-2026-04-18
END:VEVENT
END:VCALENDAR
