BEGIN:VCALENDAR
VERSION:2.0
PRODID:-//SportPlan//Event Calendar//EN
CALSCALE:GREGORIAN
BEGIN:VEVENT
UID:a5480690-7715-41ad-898c-fc976fc1031c@sportplan.local
DTSTAMP:20260420T195225Z
DTSTART;VALUE=DATE:20260509
DTEND;VALUE=DATE:20260510
SUMMARY:Les Foulées Grandrentoises
DESCRIPTION:Les Foulées Grandrentoises a lieu le 9 mai 2026 à Grand-Reng et propose un rendez-vous idéal pour les participants en quête d’une expérience sportive bien organisée. L’événement offre un parcours sur une distance d’environ 10 km\, conçu pour profiter du cadre\, garder un bon rythme et partager un moment convivial avec les autres participants.
LOCATION:Grand-Reng
URL:https://sportplan.vercel.app/it/events/les-foulees-grandrentoises-grand-reng-2026-05-09
END:VEVENT
END:VCALENDAR
