BEGIN:VCALENDAR
VERSION:2.0
PRODID:-//SportPlan//Event Calendar//EN
CALSCALE:GREGORIAN
BEGIN:VEVENT
UID:216a499c-57e4-421a-9a6d-cd60d12be3ef@sportplan.local
DTSTAMP:20260420T194456Z
DTSTART;VALUE=DATE:20260510
DTEND;VALUE=DATE:20260511
SUMMARY:Leiden Marathon
DESCRIPTION:Leiden Marathon vindt plaats in Leiden\, Netherlands op 10 mei 2026 en brengt lopers samen voor een sfeervolle wedstrijddag. Of je nu voor een persoonlijk record gaat of gewoon van het parcours wilt genieten\, dit evenement belooft een sterke loopervaring in Leiden\, Netherlands.
LOCATION:Leiden\, Netherlands
URL:https://sportplan.vercel.app/it/events/leiden-marathon-2026-05-10
END:VEVENT
END:VCALENDAR
