BEGIN:VCALENDAR
VERSION:2.0
PRODID:-//SportPlan//Event Calendar//EN
CALSCALE:GREGORIAN
BEGIN:VEVENT
UID:c8a02b3a-1629-4fc1-b6b8-99479bc0db1c@sportplan.local
DTSTAMP:20260420T194648Z
DTSTART;VALUE=DATE:20260502
DTEND;VALUE=DATE:20260503
SUMMARY:Legends Ardenne Trail
DESCRIPTION:
LOCATION:Clavier
URL:https://sportplan.vercel.app/it/events/legends-ardenne-trail-clavier-2026-05-02
END:VEVENT
END:VCALENDAR
