BEGIN:VCALENDAR
VERSION:2.0
PRODID:-//SportPlan//Event Calendar//EN
CALSCALE:GREGORIAN
BEGIN:VEVENT
UID:bd05d563-422a-4b27-b791-f6c711b5a853@sportplan.local
DTSTAMP:20260420T195045Z
DTSTART;VALUE=DATE:20260524
DTEND;VALUE=DATE:20260525
SUMMARY:Ledro SKY Trentino — Gtws 2026
DESCRIPTION:Ledro SKY Trentino — Gtws 2026 si terrà il 24 maggio 2026 a Valle di Ledro\, Trentino. Con una distanza di 30 km\, propone una sfida stimolante ma accessibile a chi vuole mettersi alla prova. Ideale per fissare un obiettivo stagionale e godersi una giornata sportiva ben organizzata in una location speciale.
LOCATION:Valle di Ledro\, Trentino
URL:https://sportplan.vercel.app/it/events/ledro-sky-trentino-gtws-2026-valle-di-ledro-2026-05-24
END:VEVENT
END:VCALENDAR
