BEGIN:VCALENDAR
VERSION:2.0
PRODID:-//SportPlan//Event Calendar//EN
CALSCALE:GREGORIAN
BEGIN:VEVENT
UID:5f2e0eeb-af09-4896-a9de-4f50e00e387c@sportplan.local
DTSTAMP:20260420T183108Z
DTSTART;VALUE=DATE:20260627
DTEND;VALUE=DATE:20260628
SUMMARY:Lavaredo Ultra Trail By UTMB 48K
DESCRIPTION:Lavaredo Ultra Trail By UTMB 48K si terrà il 2026-06-27 a Cortina d'Ampezzo\, Veneto. È un'ottima scelta per chi cerca una sfida ben organizzata sulla distanza di 48 km. L'atmosfera sarà adatta sia a chi punta alla performance sia a chi vuole vivere una bella giornata di sport.
LOCATION:Cortina d'Ampezzo\, Veneto
URL:https://sportplan.vercel.app/it/events/lavaredo-ultra-trail-by-utmb-48k-cortina-d-ampezzo-2026-06-27
END:VEVENT
END:VCALENDAR
