BEGIN:VCALENDAR
VERSION:2.0
PRODID:-//SportPlan//Event Calendar//EN
CALSCALE:GREGORIAN
BEGIN:VEVENT
UID:46a7f977-4232-4bcd-8f0b-eeb8be41d516@sportplan.local
DTSTAMP:20260421T013810Z
DTSTART;VALUE=DATE:20261025
DTEND;VALUE=DATE:20261026
SUMMARY:Lausanne Marathon 2026
DESCRIPTION:Lausanne Marathon 2026 findet am 25. Oktober 2026 in Lausanne\, Vaud statt. Die Veranstaltung ist eine gute Gelegenheit\, das Geschehen live zu erleben und den Tag im Voraus zu planen. Der vorgesehene Ort liegt etwa 42.2 km entfernt\, daher lohnt es sich\, Anfahrt\, Zeiten und Angebote vorab zu prüfen.
LOCATION:Lausanne\, Vaud
URL:https://sportplan.vercel.app/it/events/lausanne-marathon-2026-lausanne-2026-10-25
END:VEVENT
END:VCALENDAR
