BEGIN:VCALENDAR
VERSION:2.0
PRODID:-//SportPlan//Event Calendar//EN
CALSCALE:GREGORIAN
BEGIN:VEVENT
UID:0889fe1a-93a6-4568-88b8-2311e42c70e2@sportplan.local
DTSTAMP:20260420T224342Z
DTSTART;VALUE=DATE:20260628
DTEND;VALUE=DATE:20260629
SUMMARY:Latemar Mountain Race 45K 2026
DESCRIPTION:Latemar Mountain Race 45K 2026 si terrà il 2026-06-28 a Predazzo\, Trentino. È un'ottima scelta per chi cerca una sfida ben organizzata sulla distanza di 45 km. L'atmosfera sarà adatta sia a chi punta alla performance sia a chi vuole vivere una bella giornata di sport.
LOCATION:Predazzo\, Trentino
URL:https://sportplan.vercel.app/it/events/latemar-mountain-race-45k-2026-predazzo-2026-06-28
END:VEVENT
END:VCALENDAR
