BEGIN:VCALENDAR
VERSION:2.0
PRODID:-//SportPlan//Event Calendar//EN
CALSCALE:GREGORIAN
BEGIN:VEVENT
UID:14bc7d45-80af-4cae-b316-cbb2fe7fd90f@sportplan.local
DTSTAMP:20260420T194741Z
DTSTART;VALUE=DATE:20261004
DTEND;VALUE=DATE:20261005
SUMMARY:Lantau 2 Peaks 2026
DESCRIPTION:Lantau 2 Peaks 2026 is an official Action Asia Events trail running event at Citygate\, Tung Chung\, Hong Kong on 4 October 2026. The official event pages show public registration and amateur race formats including a 24 km individual or mixed team category and a 15 km solo open category.
LOCATION:Citygate
URL:https://sportplan.vercel.app/it/events/lantau-2-peaks-2026-2026-10-04
END:VEVENT
END:VCALENDAR
