BEGIN:VCALENDAR
VERSION:2.0
PRODID:-//SportPlan//Event Calendar//EN
CALSCALE:GREGORIAN
BEGIN:VEVENT
UID:fe4e3fca-fae0-4dfa-ba32-bd7b00880d12@sportplan.local
DTSTAMP:20260421T013754Z
DTSTART;VALUE=DATE:20270213
DTEND;VALUE=DATE:20270215
SUMMARY:La Transju' 2027
DESCRIPTION:La Transju' 2027 is an official amateur mass-participation cross-country ski event in the Jura Mountains\, France on 13 and 14 February 2027. The official La Transju' event page lists the 2027 dates and invites participants to join France's legendary cross-country ski race in classic and skating formats across the Jura Nordic area.
LOCATION:Jura Mountains\, France
URL:https://sportplan.vercel.app/it/events/la-transju-2027-jura-2027-02-13
END:VEVENT
END:VCALENDAR
