BEGIN:VCALENDAR
VERSION:2.0
PRODID:-//SportPlan//Event Calendar//EN
CALSCALE:GREGORIAN
BEGIN:VEVENT
UID:2cd8ea42-c647-44ad-872d-7685087fa34e@sportplan.local
DTSTAMP:20260420T194740Z
DTSTART;VALUE=DATE:20260627
DTEND;VALUE=DATE:20260628
SUMMARY:La Torre Trail
DESCRIPTION:
LOCATION:Torre de las Arcas\, Teruel
URL:https://sportplan.vercel.app/it/events/la-torre-trail-torre-de-las-arcas-2026-06-27
END:VEVENT
END:VCALENDAR
