BEGIN:VCALENDAR
VERSION:2.0
PRODID:-//SportPlan//Event Calendar//EN
CALSCALE:GREGORIAN
BEGIN:VEVENT
UID:a7b0654c-5307-4d96-9b81-255ce4917bb1@sportplan.local
DTSTAMP:20260420T223939Z
DTSTART;VALUE=DATE:20270117
DTEND;VALUE=DATE:20270118
SUMMARY:La Sfida 2027
DESCRIPTION:La Sfida 2027 is an official amateur open-technique cross-country ski race in the Engadin\, Switzerland on 17 January 2027. The official organizer site says La Sfida will take place on Sunday 17 January 2027 and that registration will open shortly\, while the La Sfida race page describes it as the Sunday open-technique race within the La Diagonela program.
LOCATION:Engadin\, Graubünden\, Switzerland
URL:https://sportplan.vercel.app/it/events/la-sfida-2027-pontresina-2027-01-17
END:VEVENT
END:VCALENDAR
