BEGIN:VCALENDAR
VERSION:2.0
PRODID:-//SportPlan//Event Calendar//EN
CALSCALE:GREGORIAN
BEGIN:VEVENT
UID:d0ef7f24-829b-4d84-a203-937052947c86@sportplan.local
DTSTAMP:20260420T223934Z
DTSTART;VALUE=DATE:20270114
DTEND;VALUE=DATE:20270115
SUMMARY:La Saireda 2027
DESCRIPTION:La Saireda 2027 is an official amateur evening cross-country ski race in the Engadin\, Switzerland on 14 January 2027. The official La Saireda race page lists the 2027 date\, a mass start at 18:00 from the Pontresina Langlauf Center\, and the Pontresina to Hotel Roseg Gletscher route. The organizer site also lists La Saireda among the 2027 races already open for registration.
LOCATION:Pontresina Langlauf Center to Hotel Roseg Gletscher\, Graubünden\, Switzerland
URL:https://sportplan.vercel.app/it/events/la-saireda-2027-pontresina-2027-01-14
END:VEVENT
END:VCALENDAR
