BEGIN:VCALENDAR
VERSION:2.0
PRODID:-//SportPlan//Event Calendar//EN
CALSCALE:GREGORIAN
BEGIN:VEVENT
UID:7b986b12-ff09-45e5-a3ee-c90ef90a8e61@sportplan.local
DTSTAMP:20260420T201925Z
DTSTART;VALUE=DATE:20260921
DTEND;VALUE=DATE:20260922
SUMMARY:La Sabinita Trail Aromas de Mi Pueblo
DESCRIPTION:La Sabinita Trail Aromas de Mi Pueblo se celebra el 21 de septiembre de 2026 en Tenerife\, Tenerife\, Canarias. Es una cita perfecta para vivir una jornada deportiva con un recorrido de 10 km y un ambiente ideal para disfrutar del día de carrera. Ideal tanto para quienes buscan marca como para quienes quieren disfrutar del recorrido y del ambiente del evento.
LOCATION:Tenerife\, Tenerife\, Canarias
URL:https://sportplan.vercel.app/it/events/la-sabinita-trail-aromas-de-mi-pueblo-tenerife-2026-09-21-10k
END:VEVENT
END:VCALENDAR
